Workbook

Sheet Steelhead Summary
A1: File Organization: sheet tabs are color-coded - see below for descriptions
A3: Yellow | B3: this summary tab lists the species life stages and the candidate HSC curves proposed for consideration (see table below)
A4: Red | B4: proposed candidate HSC curves - "info" table lists metadata for all available curves (candidates highlighted in yellow), figures show proposed candidate HSC curves by lifestage for depth or velocity
B5: the steelhead spawning figures also show available RMT site-specific data that is overlaid with candidate curves - data intended to be used for biovalidation of existing HSC curves
B6: the "Yuba new" datapoint and table on each curve figure is a placeholder in the event that we want to create and overlay a new curve with the existing curves
A7: Green | B7: fry vs juvenile comparison curves - are intended to show if specific curve-sets reflect increased suitability of deeper/faster water as fish grow
A8: Blue | B8: ALL HSC curves are plotted together (candidate and non-candidate) - very busy!
A9: Brown | B9: supporting data for figures
A11: Lifestage | B11: Variable | C11: Proposed HSC | D11: Alternate HSC1 | E11: Alternate HSC1
A12: Spawning | B12: Velocity | C12: RMT validated2 | D12: Tuol TRTAC5 | E12: Yuba FWS
B13: Depth | C13: RMT validated2 | D13: Tuol TRTAC5 | E13: Yuba FWS
B14: Substrate | C14: RMT Site-Spec3 | D14: Tuol TRTAC | E14: Yuba FWS
B15: Cover | C15: N/A4
A17: Fry | B17: Velocity | C17: Tuol TRTAC6 | D17: Yuba FWS
B18: Depth | C18: Tuol TRTAC6 | D18: Yuba FWS
B19: Substrate | C19: N/A4
B20: Cover | C20: TBD7 | D20: Yuba FWS7
B21: Adj Velocity | C21: TBD7 | D21: Yuba FWS7
A23: Juvenile | B23: Velocity | C23: Tuol TRTAC8 | D23: Yuba FWS10
B24: Depth | C24: Tuol TRTAC9 | D24: Yuba FWS
B25: Substrate | C25: N/A4
B26: Cover | C26: TBD7 | D26: Yuba FWS7
B27: Adj Velocity | C27: TBD7 | D27: Yuba FWS7
A28: Notes:
A29: 1 | B29: alternate HSC curve sets not in any specific order of preference
A30: 2 | B30: use HSC curves that successfully biovalidate in Yuba River by RMT (analysis results expected in June)
A31: 3 | B31: simplified substrate HSC (binary w suit for particles xx-xxx mm), if biovalidated in Yuba by RMT
A32: 4 | B32: not proposed for use
A33: 5 | B33: based on Yuba FWS and Trinity (use) curves
A34: 6 | B34: envelope based on Trinity (use), upper Klamath, Pit, Deer (use), and Clear Creek FWS curves
A35: 7 | B35: use of cover and/or adjacent velocity HSC to be discussed
A36: 8 | B36: envelope based on So Frk American River (use) and SFAR (presence/absence)/Merced curves
A37: 9 | B37: depth based on modified Stanislaus FWS curve
A38: 10 | B38: velocity based on STH fry curve, also used to represent CHS juvenile

Sheet sthspwn.info
B1: STEELHEAD SPAWNING
G2: cm | H2: cm | N2: ft msl | O2: ft msl | P2: N / W Deg Min.min | R2: ft | S2: ft | T2: ft | U2: cfs | V2: cfs | W2: cfs | X2: % | Y2: oC | Z2: oC | AA2: oC
B3: Curve ID | D3: Fish Characteristics | I3: Sample Size1 | K3: Stream Location | R3: Stream Characteristics 2 | AC3: Sampling Info | AI3: Available HSC Data
F4: Life- | G4: Length | I4: No. HSC | J4: No. | N4: Elevation | P4: GPS Coordinates | S4: Width | V4: Streamflow | X4: Mean | Z4: Water Temperature | AB4: Species | AC4: Site - | AD4: Sampling | AE4: Survey | AF4: Observ | AG4: Curve | AH4: Curve | AI4: Total | AJ4: Velocity | AM4: Sub-
A5: Plot? | B5: No. | C5: Name | D5: Species | E5: Race | F5: stage | G5: Min | H5: Max | I5: Obs | J5: Fish | K5: Country | L5: State | M5: River | N5: Min | O5: Max | P5: Downstream | Q5: Upstream | R5: Mean | S5: Min | T5: Max | U5: Mean | V5: Low | W5: High | X5: Slope | Y5: Mean | Z5: Min | AA5: Max | AB5: Composition3 | AC5: Specific? | AD5: Season | AE5: Design4 | AF5: Method5 | AG5: Type6 | AH5: Smoothing7 | AI5: Depth | AJ5: Mean Col | AK5: Focal | AL5: Cover8 | AM5: strate8 | AN5: Other | AO5: Comments | AP5: Reference
A6: Y | B6: 1 | C6: Bovee | D6: sth | E6: - | F6: spwning | K6: USA | L6: OR,ID | M6: various | AC6: N | AG6: Cat I | AI6: Y | AJ6: Y | AM6: Y | AP6: Bovee, K.D. 1978. Probability-of-use criteria for the family Salmonidae. Instream Flow Information Paper No. 4. Cooperative Instream Flow Service Group, U.S. fish & Wildlife Service, Fort Collins, CO.
A7: Y | B7: 2 | C7: TrinityU | D7: sth | E7: - | F7: spwning | I7: 88 | K7: USA | L7: CA | M7: Trinity | V7: 300 | W7: 450 | AC7: Y | AG7: Cat II | AH7: 3-pt running means | AI7: Y | AJ7: Y | AM7: Y | AN7: Y | AO7: 6 | AP7: Hampton, M. 1997. Microhabitat suitability criteria for anadromous salmonids of the Trinity River. U.S. Fish & Wildlife Service, Arcata, CA.
A8: Y | B8: 3 | C8: Panther | D8: sth | E8: - | F8: spwning | I8: 84 | K8: USA | L8: ID | M8: various ID | AC8: N | AG8: Cat I | AI8: Y | AJ8: Y | AM8: Y | AO8: 1,3 | AP8: Reiser, D.W. 1985. Panther Creek, Idaho. Habitat rehabilitation - final report. Contract No. DE-AC79-84BP17449. Bonneville Power Administration, Portland, Oregon.
A9: Y | B9: 4 | C9: Oregon 1 | D9: sth | E9: - | F9: spwning | I9: 49 | K9: USA | L9: OR | M9: Mollalla,N Santiam | R9: 70-80 | X9: 0.6-0.8 | AG9: Cat II | AH9: 95% CI for means=1.0 | AI9: Y | AJ9: Y | AO9: 2 | AP9: Sams, R.E., and L.S. Pearson. 1963. The depth and velocity of water over redd sites selected by various salmonid species. Environmental Management Section, Oregon Department of Fish and Wildlife. Portland, Oregon. 365pp.
A10: Y | B10: 5 | C10: Oregon 2 | D10: sth | E10: - | F10: spwning | K10: USA | L10: OR | M10: various | AP10: Smith, A.K. 1973. Development and application of spawning velocity and depth criteria for Oregon salmonids. Transactions of the American Fisheries Society 102:312-316.
A11: Y | B11: 6 | C11: Hosey | D11: sth | E11: - | F11: spwning | K11: USA | L11: WA | M11: Dosewallips,Big Quilcene | AC11: Y some data | AG11: Cat I | AI11: Y | AJ11: Y | AM11: Y | AO11: 2 | AP11: Hosey & Associates. 1986. Unpublished curves
A12: Y | B12: 7 | C12: WDFW 87 | D12: sth | E12: - | F12: spwning | K12: USA | L12: WA | M12: ? | AG12: Cat I | AI12: Y | AJ12: Y | AO12: 4 | AP12: Washington Department of Fish and Wildlife (state book curves - ??)
A13: Y | B13: 8 | C13: WDFW 96 | D13: sth | E13: - | F13: spwning | I13: 25 | J13: 2 studies | K13: USA | L13: WA | M13: Cedar | AG13: Cat I | AI13: Y | AJ13: Y | AM13: Y | AO13: 5 | AP13: Washington Department of Fish and Wildlife (revised State curves, taken 1/03 from WDFW website: http://www.ecy.wa.gov/programs/wr/sw/if-guide.pdf )
A14: Y | B14: 9 | C14: Carmel | D14: sth | E14: - | F14: spwning | I14: 142 | J14: 15 for sub | K14: USA | L14: CA | M14: Carmel | V14: 150 | W14: 230 | AC14: Y | AG14: Cat II | AH14: histogram midpts | AI14: Y | AJ14: Y | AM14: Y | AN14: Y | AO14: 1,7,8 | AP14: Dettman, D.H., and D.W. Kelley. 1986. Assessment of the Carmel River steelhead resource. Vol 1: Biological investigations. Report to Monterey Peninsula Water Management District. Monterey, CA.
A15: Y | B15: 10 | C15: Feather | D15: sth | E15: winter | F15: spwning | I15: 75 | K15: USA | L15: CA | M15: Feather | U15: 600? | AC15: Y | AD15: winter | AG15: Cat II | AH15: polynomial regr | AI15: Y | AJ15: Y | AM15: Y | AP15: DWR. 2004. Phase 2 Report: Evaluation of project effects on instream flow and fish habitat SP F-16. Oroville facilities relicensing, FERC Project No. 2100.
A16: Y | B16: 11 | C16: Clear | D16: sth | E16: winter | F16: spwning | I16: 212 | K16: USA | L16: CA | M16: Clear | AC16: Y | AD16: wint-spr | AG16: pres-abs | AH16: logistic regr | AI16: Y | AJ16: Y | AM16: Y | AP16: USFWS. 2007. Flow-habitat relationships for spring-run chinook salmon and steelhead/rainbow trout spawning in Clear Creek between Whiskeytown Dam and Clear Creek Road. USFWS Final Report, Sacramento, CA.
A17: Y | B17: 12 | C17: American | D17: sth | E17: winter | F17: spwning | I17: 27 | K17: USA | L17: CA | M17: American | AC17: Y | AD17: wint-spr | AG17: Cat II? | AH17: ? | AI17: Y | AJ17: Y | AM17: Y | AO17: 9 | AP17: USFWS. 2003. Effects of the January 1997 flood on flow-habitat relationships for steelhead and fall-run Chinook salmon spawning in the Lower American River. USFWS, Energy Planning and Instream Flow Branch, Sacramento, California
A18: Y | B18: 13 | C18: Yuba FWS | D18: sth/rbt | E18: - | F18: spwning | I18: 184 | K18: USA | L18: CA | M18: Yuba | U18: Jan-Apr | V18: 1790 | W18: 2470 | AC18: Y | AE18: reaches | AG18: Cat III ? | AH18: Pres-Abs, log regr | AI18: Y | AJ18: Y | AM18: Y | AP18: United States Fish and Wildlife Service. 2010. Flow-habitat relationships for spring and fall-run Chinook salmon and steelhead/rainbow trout spawning in the Yuba River. United States Fish and Wildlife Service, SFWO, Energy Planning and Instream Flow Branch, Sacramento, CA. 430pp.
A19: Y | B19: 14 | C19: Tuol TRTAC | D19: sth/rbt | F19: spwning | K19: USA | L19: CA | M19: Tuolumne | AC19: N | AG19: Cat I | AI19: Y | AJ19: Y | AM19: Y | AO19: 10 | AP19: data from Tuolumne Tech Review Team HSC notes (20 Oct 2010)
B21: Keys:
B22: 1 | C22: # HSC observations is number of independent measurements at fish positions, # fish is total number of fish seen at the measurement locations
B23: 2 | C23: stream habitat characteristics DURING THE PERIOD OF SAMPLING FOR HSC
B24: 3 | C24: species abbreviations: chs=chinook salmon, coh=coho salmon, sth=steelhead, rbt=rainbow trout (resident), brn=brown trout, brk=brook trout, bul=bull trout, cut=cutthroat trout, wtf=whitefish, skr=suckers, scp=sculpin, pkm=pikeminnow, hdh=hardhead, dac=dace
B25: 4 | C25: survey design: sampling design used to collect hsc data, i.e. reaches - samples collected in representative reach(es), proportional - samples collected within mesohabitat types with effort in proportion to availability, equal-area - samples collected wit
B26: 5 | C26: observation method: DOuw-direct observation underwater (snorkeling/scuba), DOow-direct observation out-of-water (wading, boat, or bank observation), EF-electrofishing, VID-underwater video, NET-seining or other net capture, Other (see comments)
B27: 6 | C27: curve type: Cat I - hand-drawn or a composite of various curves based on professional judgment, Cat II - based on habitat use data, Cat III - based on habitat use data adjusted by habitat availability data, Bio - bioenergetics hsc
B28: 7 | C28: curve smoothing: method used (if any) to smooth raw observation or frequency histogram data
B29: 8 | C29: see hsc data sets for cover and substrate coding details
B31: Comments:
B32: 1 | C32: curve points approximated from graphs
B33: 2 | C33: curve points taken from IFG HSC summary printout
B34: 3 | C34: curves based on Bovee and field data from Reiser, D.W., and R.G. White. 1981. Influence of streamflow reductions on salmonid embryo development and fry quality. Idaho Water and Energy Resources Research Institute Research Technical Completion Report Pr
B35: 4 | C35: curves from computer printout stapled to end of Washington Department of Fisheries. 1987. Documentation and rationale for preference curves used 1983-1987 for IFIM studies, Washington Department of Fisheries, Habitat Management. Draft report by J. Cald
B36: 5 | C36: "composite" hsc values from several studies (data given in scattered bins)
B37: 6 | C37: substrate curve points approximated from graphs, % embeddedness HSC also developed
B38: 7 | C38: depths and vels taken at 2 locations: in/above depression (deeper/slower) and on/above mound (shallower/faster) - the above depression data was used in this sheet
B39: 8 | C39: redd sizes also recorded
B40: 9 | C40: depth/vel data from CDFG (do not have orig rpt or data), substrate based on Trinity River data (sub classes adjusted to Gard code)
B41: 10 | C41: depth/vel curves based on the Trinity and Yuba HSC

Sheet sthspwn.vel Yuba
P1: New HSC Curve:
P2: MCVel | Q2: Yuba New
P3: 0 | Q3: 0
P4: 0 | Q4: 0
P5: 0 | Q5: 0
P6: 0 | Q6: 0
P7: 0 | Q7: 0

Sheet sthspwn.dep Yuba
P1: New HSC Curve:
P2: Depth | Q2: Yuba New
P3: 0 | Q3: 0
P4: 0 | Q4: 0
P5: 0 | Q5: 0
P6: 0 | Q6: 0
P7: 0 | Q7: 0

Sheet sthfry.info
B1: STEELHEAD FRY
G2: cm | H2: cm | N2: ft msl | O2: ft msl | P2: N / W Deg Min.min | R2: ft | S2: ft | T2: ft | U2: cfs | V2: cfs | W2: cfs | X2: % | Y2: oC | Z2: oC | AA2: oC
B3: Curve ID | D3: Fish Characteristics | I3: Sample Size1 | K3: Stream Location | R3: Stream Characteristics 2 | AC3: Sampling Info | AI3: Available HSC Data
F4: Life- | G4: Length | I4: No. HSC | J4: No. | N4: Elevation | P4: GPS Coordinates | S4: Width | V4: Streamflow | X4: Mean | Z4: Water Temperature | AB4: Species | AC4: Site - | AD4: Sampling | AE4: Survey | AF4: Observ | AG4: Curve | AH4: Curve | AI4: Total | AJ4: Velocity | AM4: Sub-
A5: Plot? | B5: No. | C5: Name | D5: Species | E5: Race | F5: stage | G5: Min | H5: Max | I5: Obs | J5: Fish | K5: Country | L5: State | M5: River | N5: Min | O5: Max | P5: Downstream | Q5: Upstream | R5: Mean | S5: Min | T5: Max | U5: Mean | V5: Low | W5: High | X5: Slope | Y5: Mean | Z5: Min | AA5: Max | AB5: Composition3 | AC5: Specific? | AD5: Season | AE5: Design4 | AF5: Method5 | AG5: Type6 | AH5: Smoothing7 | AI5: Depth | AJ5: Mean Col | AK5: Focal | AL5: Cover8 | AM5: strate8 | AN5: Other | AO5: Comments | AP5: Reference
A6: Y | B6: 1 | C6: Bovee | D6: sth | E6: - | F6: fry | K6: USA | L6: OR,ID | M6: various | AC6: N | AG6: Cat I | AI6: Y | AJ6: Y | AM6: Y | AP6: Bovee, K.D. 1978. Probability-of-use criteria for the family Salmonidae. Instream Flow Information Paper No. 4. Cooperative Instream Flow Service Group, U.S. fish & Wildlife Service, Fort Collins, CO.
A7: Y | B7: 2 | C7: Rubin | D7: sth | E7: - | F7: fry | G7: 4 | H7: 5 | I7: 361 cells | J7: 258 | K7: USA | L7: ID | M7: Camas,Cape Horn | N7: 5000 | O7: 6500 | R7: 33-52 | U7: 20-26 | Y7: 8 to 13 | AC7: Y | AD7: summer | AE7: cells | AF7: DO uw | AG7: density | AH7: poisson regr | AI7: Y | AJ7: Y | AO7: 1 | AP7: Rubin, S.P., T.C. Bjornn, and B. Dennis. 1991. Habitat suitability curves for juvenile chinook salmon and steelhead development using a habitat-oriented sampling approach. Rivers 2(1):12-29.
A8: Y | B8: 3 | C8: TrinityU | D8: sth | E8: - | F8: fry | H8: <5 | I8: 80 | K8: USA | L8: CA | M8: Trinity | V8: 300 | W8: 450 | AC8: Y | AF8: DO uw | AG8: Cat II | AH8: 3-pt running means | AI8: Y | AJ8: Y | AP8: Hampton, M. 1997. Microhabitat suitability criteria for anadromous salmonids of the Trinity River. U.S. Fish & Wildlife Service, Arcata, CA.
A9: Y | B9: 4 | C9: Hosey | D9: sth | E9: - | F9: fry | K9: USA | L9: WA | M9: Dosewallips,Big Quilcene | AC9: Y some data | AD9: summer | AG9: Cat I | AI9: Y | AJ9: Y | AM9: Y | AO9: 2 | AP9: Hosey & Associates. 1986. Unpublished curves
A10: Y | B10: 5 | C10: Klamath ENV | D10: sth | E10: - | F10: fry | K10: USA | M10: various | AC10: N | AG10: Cat I | AI10: Y | AJ10: Y | AP10: Hardy, T.B. and R.C. Addley. 2001. Evaluation of interim instream flow needs in the Klamath River. Institute for Natural Systems Engineering, Utah Water Research Laboratory, Utah State University, Logan, UT.
A11: Y | B11: 6 | C11: Tokul | D11: sth | E11: (& cut ?) | F11: fry | K11: USA | L11: WA | U11: 20 | AD11: summer,fall | AG11: Cat II or III? | AH11: none-raw freqs | AI11: N | AJ11: Y | AO11: 3 | AP11: Weyerhaeuser 1984 (unpub data)
A12: Y | B12: 7 | C12: WDFW 96 | D12: sth | E12: - | F12: fry (all trout spp) | I12: 175 fish/3 studies | K12: USA | L12: WA | M12: various | AG12: Cat I | AI12: Y | AJ12: Y | AM12: Y | AO12: 4 | AP12: Washington Department of Fish and Wildlife (revised State curves, taken 1/03 from WDFW website: http://www.ecy.wa.gov/programs/wr/sw/if-guide.pdf )
A13: Y | B13: 8 | C13: Clearwater | D13: sth | E13: - | F13: fry | G13: 0+ | I13: ? | K13: USA | L13: ID | M13: Clearwater | V13: 9000 | W13: 12000 | AB13: chs,sth,wtf,skr,rss | AC13: Y | AE13: ~proportional | AF13: DO uw | AG13: Cat III | AH13: sturges rule w 3-pt running means | AI13: Y | AJ13: Y | AM13: Y | AO13: 3,5 | AP13: Arnsberg, B.D., W.P. Connor, and E. Connor. 1992. Mainsten Clearwater River study: assessment for salmonid spawning, incubation, and rearing. Final Report. United States Department of Energy, Bonneville Power Administration, DOE/BP- 37474-3. 201pp.
A14: Y | B14: 9 | C14: Sanford | D14: sth | E14: - | F14: fry | G14: ? | H14: ? | I14: ? | K14: USA | L14: OR,ID,WA | M14: various | AG14: Cat II | AI14: Y | AJ14: Y | AL14: N | AM14: N | AO14: 7,9 | AP14: Sanford, R. A., 1984. PHABSIM error analyses: Techniques and case studies. M.S. Thesis, University of Washington, Seattle.
A15: Y | B15: 10 | C15: Yuba FWS | D15: sth/rbt | F15: fry | H15: 6 | I15: 195 | K15: USA | L15: CA | M15: Yuba | U15: May-Jan | V15: 508 | W15: 2827 | AC15: Y | AD15: all yr | AE15: ? | AF15: DO uw | AG15: Pres-Abs | AH15: logistic regr | AI15: Y | AJ15: Y | AK15: N | AL15: Y | AM15: ? | AN15: Y | AO15: 10 | AP15: USFWS. 2008. Flow-habitat relationships for juvenile spring/fall-run chinook salmon and steelhead/rainbow trout rearing in the Yuba River. USFWS Energy Planning and Instream Flow Branch.
A16: Y | B16: 11 | C16: Tuol TRTAC | D16: sth/rbt | F16: fry | K16: USA | L16: CA | M16: Tuolumne | AC16: N | AG16: Cat I | AH16: envelope | AI16: Y | AJ16: Y | AO16: 11 | AP16: data from Tuolumne Tech Review Team HSC notes (20 Oct 2010)
A17: Y | B17: 12 | C17: Clear | D17: sth/rbt | E17: - | F17: fry | I17: 426 | K17: USA | L17: CA | M17: Clear | V17: 89 | W17: 378 | AC17: Y | AE17: reaches? | AF17: DO uw | AG17: Cat III ? | AH17: Pres-Abs, log regr | AI17: Y | AJ17: Y | AL17: Y | AN17: adj vel | AP17: United States Fish and Wildlife Service. 2011. Flow-habitat relationships for juvenile spring-run Chinook salmon and steelhead/rainbow trout rearing in Clear Creek between Whiskeytown Dam and Clear Creek Road. Final Report, United States Fish and Wildlife Service, SFWO, Energy Planning and Instream Flow Branch, Sacramento, CA. 309pp
A18: Y | B18: 13 | C18: Pit | D18: RBT | F18: fry | H18: <5 | I18: 61 | K18: USA | L18: CA | M18: Pit | N18: 1445 | O18: 2650 | S18: 40 | T18: 200 | V18: 50 | W18: 150 | X18: 0.7-1.1 | Y18: 65 | AB18: rbt,skr,scp,hh,pm | AC18: Y | AE18: PROP | AF18: DO uw | AG18: Cat III | AI18: Y | AJ18: Y | AK18: Y | AL18: Y | AM18: Y | AO18: 1,13 | AP18: Baltz & Vondracek 1985
A19: Y | B19: 14 | C19: Deer Use | D19: RBT | F19: fry | K19: USA | L19: CA | M19: Deer | N19: 30 | O19: 3475 | V19: 100 | W19: 200 | Z19: 55 | AB19: rbt,brn,skr,scp,hh,pm,rch,dac,smb | AC19: Y | AD19: June-Oct | AE19: RCH | AF19: DO uw | AG19: Cat II | AH19: histogram | AI19: Y | AJ19: Y | AK19: Y | AL19: N | AM19: Y | AO19: 1 | AP19: Moyle & Baltz 1985
A20: Y | B20: 15 | C20: Up Klamath | D20: RBT | E20: redband | F20: fry | G20: 2 | H20: 4 | J20: 195 | K20: USA | L20: OR | M20: upper Klamath | N20: 3335 | O20: 3750 | R20: 87 | U20: 325 | X20: 1.7 | Z20: 55 | AA20: 62 | AB20: RBT,SKR,SCP,chub,LMP | AC20: Y | AD20: July-Sept | AE20: EA | AF20: DO uw | AG20: Cat III | AH20: 3pt running means | AI20: Y | AJ20: Y | AK20: N | AL20: Y | AM20: N | AO20: 12 | AP20: TRPA 2004
A21: Y | B21: 16 | C21: Feather | D21: sth | F21: fry | H21: 5 | I21: 452 | K21: USA | L21: CA | M21: Feather | AC21: Y | AE21: proportional | AF21: DO uw | AG21: Cat II? | AH21: polynomials? | AI21: Y | AJ21: Y | AL21: Y | AO21: 14 | AP21: California Department of Water Resources. 2005. Addendum to Phase 2 report: Evaluation of project effects on instream flows and fish habitat SP F-16. Oroville Facilities Relicensing FERC Project No. 2100. Sacramento, California.
B23: Keys:
B24: 1 | C24: # HSC observations is number of independent measurements at fish positions, # fish is total number of fish seen at the measurement locations
B25: 2 | C25: stream habitat characteristics DURING THE PERIOD OF SAMPLING FOR HSC
B26: 3 | C26: species abbreviations: chs=chinook salmon, coh=coho salmon, sth=steelhead, rbt=rainbow trout (resident), brn=brown trout, brk=brook trout, bul=bull trout, cut=cutthroat trout, wtf=whitefish, skr=suckers, scp=sculpin, pkm=pikeminnow, hdh=hardhead, dac=dace, rss=redside shiners
B27: 4 | C27: survey design: sampling design used to collect hsc data, i.e. reaches - samples collected in representative reach(es), proportional - samples collected within mesohabitat types with effort in proportion to availability, equal-area - samples collected wit
B28: 5 | C28: observation method: DOuw-direct observation underwater (snorkeling/scuba), DOow-direct observation out-of-water (wading, boat, or bank observation), EF-electrofishing, VID-underwater video, NET-seining or other net capture, Other (see comments)
B29: 6 | C29: curve type: Cat I - hand-drawn or a composite of various curves based on professional judgment, Cat II - based on habitat use data, Cat III - based on habitat use data adjusted by habitat availability data, Bio - bioenergetics hsc
B30: 7 | C30: curve smoothing: method used (if any) to smooth raw observation or frequency histogram data
B31: 8 | C31: see hsc data sets for cover and substrate coding details
B33: Comments:
B34: 1 | C34: substrate data also collected
B35: 2 | C35: curve points taken from IFG HSC summary printout
B36: 3 | C36: curve points approximated from graphs
B37: 4 | C37: "composite" hsc values from several studies (data given in scattered bins)
B38: 5 | C38: sample sizes not given (but probably sign >65 fish), design was initially proportional, but effort was increased in riffles due to greater densities and lack of obs in slower habitats
B39: 6 | C39: curve points taken from Hardy et al. 2001 curve file
B40: 7 | C40: STH fry/juv HSC from CH2MHill's 1984 Hamma Hamma study (see our IFIM files), which used Bovee HSC w some "simplifications" as suggested by WDG
B41: 8 | C41: the substrate curve points in the Hardy et al. 2001 curve file show much higher suitability for subs from 4-5 (not consistent w the Beak report)
B42: 9 | C42: curve modified from Bovee (VEL IDENTICAL TO Bovee)
...

Sheet sthfry.vel Yuba
P1: New HSC Curve:
P2: MCVel | Q2: Yuba New
P3: 0 | Q3: 0
P4: 0 | Q4: 0
P5: 0 | Q5: 0
P6: 0 | Q6: 0
P7: 0 | Q7: 0

Sheet sthfry.dep Yuba
P1: New HSC Curve:
P2: Depth | Q2: Yuba New
P3: 0 | Q3: 0
P4: 0 | Q4: 0
P5: 0 | Q5: 0
P6: 0 | Q6: 0
P7: 0 | Q7: 0

Sheet sthjuv.info
B1: STEELHEAD JUVENILES
G2: cm | H2: cm | N2: ft msl | O2: ft msl | P2: N / W Deg Min.min | R2: ft | S2: ft | T2: ft | U2: cfs | V2: cfs | W2: cfs | X2: % | Y2: oC | Z2: oC | AA2: oC
B3: Curve ID | D3: Fish Characteristics | I3: Sample Size1 | K3: Stream Location | R3: Stream Characteristics 2 | AC3: Sampling Info | AI3: Available HSC Data
F4: Life- | G4: Length | I4: No. HSC | J4: No. | N4: Elevation | P4: GPS Coordinates | S4: Width | V4: Streamflow | X4: Mean | Z4: Water Temperature | AB4: Species | AC4: Site - | AD4: Sampling | AE4: Survey | AF4: Observ | AG4: Curve | AH4: Curve | AI4: Total | AJ4: Velocity | AM4: Sub-
A5: Plot? | B5: No. | C5: Name | D5: Species | E5: Race | F5: stage | G5: Min | H5: Max | I5: Obs | J5: Fish | K5: Country | L5: State | M5: River | N5: Min | O5: Max | P5: Downstream | Q5: Upstream | R5: Mean | S5: Min | T5: Max | U5: Mean | V5: Low | W5: High | X5: Slope | Y5: Mean | Z5: Min | AA5: Max | AB5: Composition3 | AC5: Specific? | AD5: Season | AE5: Design4 | AF5: Method5 | AG5: Type6 | AH5: Smoothing7 | AI5: Depth | AJ5: Mean Col | AK5: Focal | AL5: Cover8 | AM5: strate8 | AN5: Other | AO5: Comments | AP5: Reference
A6: Y | B6: 1 | C6: Bovee | D6: sth | E6: - | F6: juv | K6: USA | L6: OR,ID | M6: various | AC6: N | AG6: Cat I | AI6: Y | AJ6: Y | AM6: Y | AP6: Bovee, K.D. 1978. Probability-of-use criteria for the family Salmonidae. Instream Flow Information Paper No. 4. Cooperative Instream Flow Service Group, U.S. fish & Wildlife Service, Fort Collins, CO.
A7: Y | B7: 2 | C7: Trinity S | D7: sth | E7: - | F7: juv | G7: >5 | I7: 185 | K7: USA | L7: CA | M7: Trinity | V7: 300 | W7: 450 | AC7: Y | AD7: summer | AF7: DO uw | AG7: Cat II | AH7: 3-pt running means | AI7: Y | AJ7: Y | AP7: Hampton, M. 1997. Microhabitat suitability criteria for anadromous salmonids of the Trinity River. U.S. Fish & Wildlife Service, Arcata, CA.
A8: Y | B8: 3 | C8: Trinity W | D8: sth | E8: - | F8: juv | G8: >5 | I8: 97 | K8: USA | L8: CA | M8: Trinity | AC8: Y | AD8: winter | AF8: DOuw/EFing? | AG8: Cat II | AH8: 3-pt running means | AI8: Y | AJ8: Y | AP8: Hampton, M. 1997. Microhabitat suitability criteria for anadromous salmonids of the Trinity River. U.S. Fish & Wildlife Service, Arcata, CA.
A9: Y | B9: 4 | C9: Trinity P | D9: sth | E9: - | F9: juv | G9: >5 | K9: USA | L9: CA | M9: Trinity | V9: 300 | W9: 450 | AC9: Y | AD9: summer | AF9: DO uw | AG9: Cat III | AH9: 3-pt running means | AI9: Y | AJ9: Y | AP9: Hampton, M. 1988. Development of habitat preference criteria for anadromous salmonids of the Trinity River. United States Fish and Wildlife Service, Division of Ecological Services. Sacramento, California. 93pp.
A10: Y | B10: 5 | C10: Clearwater | D10: sth | E10: - | F10: juv | G10: 1+ | I10: ? | K10: USA | L10: ID | M10: Clearwater | V10: 9000 | W10: 12000 | AB10: chs,sth,wtf,skr,rss | AC10: Y | AE10: ~proportional | AF10: DO uw | AG10: Cat III | AH10: sturges rule w 3-pt running means | AI10: Y | AJ10: Y | AM10: Y | AO10: 3,9 | AP10: Arnsberg, B.D., W.P. Connor, and E. Connor. 1992. Mainsten Clearwater River study: assessment for salmonid spawning, incubation, and rearing. Final Report. United States Department of Energy, Bonneville Power Administration, DOE/BP- 37474-3. 201pp.
A11: Y | B11: 6 | C11: Sandy | D11: sth | E11: - | F11: juv | I11: 98 | K11: USA | L11: OR | M11: Sandy | V11: 350 | W11: 1245 | X11: 0.2-0.4 | AC11: Y | AD11: July-Oct | AG11: Cat II | AI11: Y | AJ11: N | AM11: Y | AO11: 1,5 | AP11: Beak Consultants, Inc. 1985. Sandy River instream flow study for the City of Portland. Beak Consultants, Inc., Portland, Oregon. 67pp.
A12: Y | B12: 7 | C12: Klam ENV | D12: sth | E12: - | F12: juv | K12: USA | M12: various | AC12: N | AG12: Cat I | AI12: Y | AJ12: Y | AP12: Hardy, T.B. and R.C. Addley. 2001. Evaluation of interim instream flow needs in the Klamath River. Institute for Natural Systems Engineering, Utah Water Research Laboratory, Utah State University, Logan, UT.
A13: Y | B13: 8 | C13: Hosey | D13: sth | E13: - | F13: juv | K13: USA | L13: WA | M13: Dosewallips,Big Quilcene | AC13: Y some data | AD13: summer | AG13: Cat I | AI13: Y | AJ13: Y | AM13: Y | AO13: 1,6 | AP13: Hosey & Associates. 1986. Unpublished curves
A14: Y | B14: 9 | C14: KlamSS spr | D14: sth | E14: - | F14: juv 1+ | G14: 5.5 | I14: 158 | K14: USA | L14: CA | M14: Klamath | AC14: Y | AD14: March-May | AF14: ? | AG14: Cat II | AH14: ? | AI14: Y | AJ14: Y | AK14: Y | AL14: Y | AN14: Y | AO14: 3,7 | AP14: Hardy, T.B. and R.C. Addley. 2001. Evaluation of interim instream flow needs in the Klamath River. Institute for Natural Systems Engineering, Utah Water Research Laboratory, Utah State University, Logan, UT.
A15: Y | B15: 10 | C15: KlamSS sum | D15: sth | E15: - | F15: juv 1+ | G15: 5.5 | I15: 192 | K15: USA | L15: CA | M15: Klamath | AC15: Y | AD15: July-Oct | AF15: ? | AG15: Cat II | AH15: ? | AI15: Y | AJ15: Y | AK15: Y | AL15: Y | AN15: Y | AO15: 3,7 | AP15: Hardy, T.B. and R.C. Addley. 2001. Evaluation of interim instream flow needs in the Klamath River. Institute for Natural Systems Engineering, Utah Water Research Laboratory, Utah State University, Logan, UT.
A16: Y | B16: 11 | C16: KlamSS all | D16: sth | E16: - | F16: juv 1+ | G16: 5.5 | I16: 350 | K16: USA | L16: CA | M16: Klamath | AC16: Y | AD16: March-Oct | AF16: ? | AG16: Cat II | AH16: ? | AI16: Y | AJ16: Y | AK16: Y | AL16: Y | AN16: Y | AO16: 3,7 | AP16: Hardy, T.B. and R.C. Addley. 2001. Evaluation of interim instream flow needs in the Klamath River. Institute for Natural Systems Engineering, Utah Water Research Laboratory, Utah State University, Logan, UT.
A17: Y | B17: 12 | C17: Tokul | D17: sth | E17: (& cut ?) | F17: juv | K17: USA | L17: WA | U17: 20 | AD17: summer,fall | AG17: Cat II or III? | AH17: none-raw freqs | AI17: N | AJ17: Y | AO17: 3 | AP17: Weyerhaeuser 1984 (unpub data)
A18: Y | B18: 13 | C18: WDFW 87 | D18: sth | E18: - | F18: juv (&fry?) | K18: USA | L18: WA | AG18: Cat I ? | AI18: Y | AJ18: Y | AM18: Y | AO18: 4 | AP18: Washington Department of Fish and Wildlife (state book curves - ??)
A19: Y | B19: 14 | C19: Hosey W | D19: sth | E19: - | F19: juv | K19: USA | L19: WA | M19: Dosewallips,Big Quilcene | AC19: Y some data | AD19: winter | AG19: Cat I | AI19: Y | AJ19: Y | AP19: Hosey & Associates. 1986. Unpublished curves
A20: Y | B20: 15 | C20: WDFW 96 | D20: sth | E20: - | F20: juv | I20: 913 fish/10 studies | K20: USA | L20: WA | M20: various | AG20: Cat I | AI20: Y | AJ20: Y | AM20: Y | AO20: 8 | AP20: Washington Department of Fish and Wildlife (revised State curves, taken 1/03 from WDFW website: http://www.ecy.wa.gov/programs/wr/sw/if-guide.pdf )
A21: Y | B21: 16 | C21: Crooked | D21: sth | E21: - | F21: juv | K21: USA | L21: ID | M21: Crooked Crk | AG21: Cat II | AI21: Y | AK21: btm | AM21: Y | AO21: 10 | AP21: Everest, F.H., and D.W. Chapman. 1972. Habitat selection and spatial interaction by juvenile chinook salmon and steelhead trout in two Idaho streams. Journal of the Fisheries Research Board of Canada 29:91-100.
A22: Y | B22: 17 | C22: Johnson HG | D22: sth | E22: - | F22: juv | K22: USA | L22: ID | M22: Johnson Crk | AG22: Cat II | AI22: Y | AK22: btm | AM22: Y | AO22: 10 | AP22: Everest, F.H., and D.W. Chapman. 1972. Habitat selection and spatial interaction by juvenile chinook salmon and steelhead trout in two Idaho streams. Journal of the Fisheries Research Board of Canada 29:91-100.
A23: Y | B23: 18 | C23: Sanford | D23: sth | E23: - | F23: juv | K23: USA | AG23: Cat III ? | AO23: 10 | AP23: Sanford, R. A., 1984. PHABSIM error analyses: Techniques and case studies. M.S. Thesis, University of Washington, Seattle.
A24: Y | B24: 19 | C24: GAWS | D24: sth | E24: - | F24: juv | K24: USA | L24: western | AG24: Cat II | AO24: 10 | AP24: USFS GAWS curve file
A25: Y | B25: 20 | C25: WDFW 87b | D25: sth | E25: - | F25: juv | K25: USA | L25: WA | AG25: Cat III | AO25: 10 | AP25: Washington Department of Fish and Wildlife (state book curves - ??) taken from Hardy et al. 2001
A26: Y | B26: 21 | C26: Reiser | D26: sth | E26: - | F26: juv | K26: USA | L26: OR,ID | M26: various | AG26: Cat II | AO26: 10,11 | AP26: Reiser, D. W., 1986. Habitat Rehabilitation – Panther Creek, Idaho – Final Report to Bonneville Power Administration. BPA Project No. 84-29. Portland.
A27: Y | B27: 22 | C27: Clear | D27: sth/chs | E27: spring | F27: juv | G27: 80 chs | I27: 191 | K27: USA | L27: CA | M27: Clear | V27: 89 | W27: 378 | AC27: Y | AD27: all year | AE27: reaches? | AF27: DO uw | AG27: Cat III ? | AH27: Pres-Abs, log regr | AI27: Y | AJ27: Y | AL27: Y | AN27: adj vel | AO27: 12 | AP27: United States Fish and Wildlife Service. 2011. Flow-habitat relationships for juvenile spring-run Chinook salmon and steelhead/rainbow trout rearing in Clear Creek between Whiskeytown Dam and Clear Creek Road. Final Report, United States Fish and Wildlife Service, SFWO, Energy Planning and Instream Flow Branch, Sacramento, CA. 309pp
A28: Y | B28: 23 | C28: Tuol TRTAC | D28: sth/rbt | F28: juv | K28: USA | L28: CA | M28: Tuolumne | AC28: N | AG28: Cat I | AH28: envelope | AI28: Y | AJ28: Y | AO28: 13 | AP28: data from Tuolumne Tech Review Team HSC notes (20 Oct 2010)
A29: Y | B29: 24 | C29: SFAR orig | D29: RBT | F29: juv | G29: 5 | H29: 15 | I29: 169 | K29: USA | L29: CA | M29: SF Amer + tribs | N29: 1950 | O29: 7000 | R29: avg | S29: 13 | T29: 71 | V29: 10 | W29: 154 | X29: 1-8 | Z29: 46 | AA29: 71 | AB29: rbt,brn,brk,skr,scp,hh,pm,dac,rch | AC29: Y | AD29: July-Aug | AE29: EA | AF29: DO uw | AG29: Cat II | AH29: polynomial regr | AI29: Y | AJ29: Y | AK29: N | AL29: N | AM29: N | AO29: 14 | AP29: TRPA 2000
A30: Y | B30: 25 | C30: SFAR FWS | D30: RBT | F30: juv | G30: 5 | H30: 15 | I30: 169 | K30: USA | L30: CA | M30: SF Amer + tribs | N30: 1950 | O30: 7000 | R30: avg | S30: 13 | T30: 71 | V30: 10 | W30: 154 | X30: 1-8 | Z30: 46 | AA30: 71 | AB30: rbt,brn,brk,skr,scp,hh,pm,dac,rch | AC30: Y | AD30: July-Aug | AE30: EA | AF30: DO uw | AG30: Pres-Abs | AH30: logistic regr | AI30: Y | AJ30: Y | AK30: N | AL30: N | AM30: N | AO30: 15 | AP30: USFWS. 2004. Flow-habitat relationships for adult and juvenile rainbow trout in the Big Creek Project. USFWS Energy Planning and Instream Flow Branch. 31pp.
A31: Y | B31: 26 | C31: Yuba FWS | D31: sth/rbt | F31: fry+juv | I31: 195/74 | K31: USA | L31: CA | M31: Yuba | U31: May-Jan | V31: 508 | W31: 2827 | AC31: Y | AF31: DO uw | AG31: Cat III ? | AH31: Pres-Abs, log regr | AI31: Y | AJ31: Y | AL31: Y | AN31: adj vel | AO31: 16 | AP31: United States Fish and Wildlife Service. 2010. Flow-habitat relationships for juvenile spring/fall-run Chinook salmon and steelhead/rainbow trout rearing in the Yuba River. Final Report, United States Fish and Wildlife Service, SFWO, Energy Planning and Instream Flow Branch, Sacramento, CA. 309pp.
A32: Y | B32: 27 | C32: Feather | D32: sth | F32: juv | G32: 5 | I32: 527 | K32: USA | L32: CA | M32: Feather | AC32: Y | AE32: proportional | AF32: DO uw | AG32: Cat II? | AH32: polynomials? | AI32: Y | AJ32: Y | AL32: Y | AO32: 17 | AP32: California Department of Water Resources. 2005. Addendum to Phase 2 report: Evaluation of project effects on instream flows and fish habitat SP F-16. Oroville Facilities Relicensing FERC Project No. 2100. Sacramento, California.
B34: Keys:
B35: 1 | C35: # HSC observations is number of independent measurements at fish positions, # fish is total number of fish seen at the measurement locations
B36: 2 | C36: stream habitat characteristics DURING THE PERIOD OF SAMPLING FOR HSC
B37: 3 | C37: species abbreviations: chs=chinook salmon, coh=coho salmon, sth=steelhead, rbt=rainbow trout (resident), brn=brown trout, brk=brook trout, bul=bull trout, cut=cutthroat trout, wtf=whitefish, skr=suckers, scp=sculpin, pkm=pikeminnow, hdh=hardhead, dac=dace, rss=redside shiners
B38: 4 | C38: survey design: sampling design used to collect hsc data, i.e. reaches - samples collected in representative reach(es), proportional - samples collected within mesohabitat types with effort in proportion to availability, equal-area - samples collected wit
B39: 5 | C39: observation method: DOuw-direct observation underwater (snorkeling/scuba), DOow-direct observation out-of-water (wading, boat, or bank observation), EF-electrofishing, VID-underwater video, NET-seining or other net capture, Other (see comments)
B40: 6 | C40: curve type: Cat I - hand-drawn or a composite of various curves based on professional judgment, Cat II - based on habitat use data, Cat III - based on habitat use data adjusted by habitat availability data, Bio - bioenergetics hsc
B41: 7 | C41: curve smoothing: method used (if any) to smooth raw observation or frequency histogram data
...

Sheet sthjuv.vel Yuba
P1: New HSC Curve:
P2: MCVel | Q2: Yuba New
P3: 0 | Q3: 0
P4: 0 | Q4: 0
P5: 0 | Q5: 0
P6: 0 | Q6: 0
P7: 0 | Q7: 0

Sheet sthjuv.dep Yuba
P1: New HSC Curve:
P2: Depth | Q2: Yuba New
P3: 0 | Q3: 0
P4: 0 | Q4: 0
P5: 0 | Q5: 0
P6: 0 | Q6: 0
P7: 0 | Q7: 0

Sheet sth fry vs juv.Tuol ENV

Sheet sth fry vs juv.Yuba FWS

Sheet Om summary.dat
A1: Lower Yuba River O.m. Redd summary Data
B3: Depth ft | C3: RMT Yuba O.m. n=252 | E3: MC Vel fps | F3: RMT Yuba O.m. n=252
A4: 0-0.19 | B4: 0.1 | C4: 0 | E4: 0.1 | F4: 2
A5: 0.2-0.39 | B5: 0.3 | C5: 2 | E5: 0.3 | F5: 0
B6: 0.5 | C6: 2 | E6: 0.5 | F6: 3
B7: 0.7 | C7: 16 | E7: 0.7 | F7: 3
B8: 0.9 | C8: 19 | E8: 0.9 | F8: 8
B9: 1.1 | C9: 21 | E9: 1.1 | F9: 14
B10: 1.3 | C10: 20 | E10: 1.3 | F10: 24
B11: 1.5 | C11: 7 | E11: 1.5 | F11: 39
B12: 1.7 | C12: 28 | E12: 1.7 | F12: 28
B13: 1.9 | C13: 22 | E13: 1.9 | F13: 27
B14: 2.1 | C14: 16 | E14: 2.1 | F14: 24
B15: 2.3 | C15: 25 | E15: 2.3 | F15: 14
B16: 2.5 | C16: 12 | E16: 2.5 | F16: 23
B17: 2.7 | C17: 11 | E17: 2.7 | F17: 17
... B38: 6.9 | C38: 0 | E38: 6.9 | F38: 0
C39: =SUM(C4:C38) -> 252 | F39: =SUM(F4:F38) -> 252

Sheet sthspwn.dat
A1: Steelhead Spawning HSC
A3: * | C3: Velocity | D3: Suitability | E3: Depth | F3: Suitability | G3: Substrate | H3: Suitability | I3: Cover | J3: Suitability | L3: code | M3: sub type
A4: *
A5: =sthspwn.info!A$6 -> Y | B5: 1 | C5: Velocity | D5: Bovee | E5: Depth | F5: Bovee | G5: Substrate | H5: Bovee | L5: code | M5: sub type | N5: mm | O5: inches
A6: =sthspwn.info!A$6 -> Y | B6: 1 | C6: 0 | D6: 0 | E6: 0 | F6: 0 | L6: 1 | M6: org matter
A7: =sthspwn.info!A$6 -> Y | B7: 1 | C7: 1 | D7: 0 | E7: 0.4 | F7: 0 | L7: 2 | M7: mud,soft clay
A8: =sthspwn.info!A$6 -> Y | B8: 1 | C8: 1.15 | D8: 0.08 | E8: 0.5 | F8: 0.2 | L8: 3 | M8: silt | N8: <0.062 | O8: <0.002
A9: =sthspwn.info!A$6 -> Y | B9: 1 | C9: 1.4 | D9: 0.4 | E9: 0.7 | F9: 0.4 | L9: 4 | M9: sand | N9: 0.062-2 | O9: 0.002-0.1
A10: =sthspwn.info!A$6 -> Y | B10: 1 | C10: 1.5 | D10: 0.6 | E10: 0.9 | F10: 0.62 | L10: 5 | M10: gravel | N10: 2-64 | O10: 0.1-2.5
A11: =sthspwn.info!A$6 -> Y | B11: 1 | C11: 1.6 | D11: 0.74 | E11: 1 | F11: 0.92 | L11: 6 | M11: cobble / rubble | N11: 64-250 | O11: 2.5-10
A12: =sthspwn.info!A$6 -> Y | B12: 1 | C12: 1.65 | D12: 0.8 | E12: 1.15 | F12: 1 | L12: 7 | M12: boulder | N12: >250 | O12: >10
A13: =sthspwn.info!A$6 -> Y | B13: 1 | C13: 1.85 | D13: 0.96 | E13: 1.2 | F13: 1 | L13: 8 | M13: bedrock
A14: =sthspwn.info!A$6 -> Y | B14: 1 | C14: 2 | D14: 1 | E14: 1.4 | F14: 0.88
A15: =sthspwn.info!A$6 -> Y | B15: 1 | C15: 2.2 | D15: 0.96 | E15: 1.5 | F15: 0.76
A16: =sthspwn.info!A$6 -> Y | B16: 1 | C16: 2.3 | D16: 0.9 | E16: 1.75 | F16: 0.52
A17: =sthspwn.info!A$6 -> Y | B17: 1 | C17: 2.5 | D17: 0.76 | E17: 1.9 | F17: 0.4
A18: =sthspwn.info!A$6 -> Y | B18: 1 | C18: 2.7 | D18: 0.64 | E18: 2.2 | F18: 0.22
A19: =sthspwn.info!A$6 -> Y | B19: 1 | C19: 3.1 | D19: 0.32 | E19: 2.25 | F19: 0.2
A20: =sthspwn.info!A$6 -> Y | B20: 1 | C20: 3.25 | D20: 0.22 | E20: 2.6 | F20: 0.08
A21: =sthspwn.info!A$6 -> Y | B21: 1 | C21: 3.4 | D21: 0.14 | E21: 2.8 | F21: 0.04
A22: =sthspwn.info!A$6 -> Y | B22: 1 | C22: 3.7 | D22: 0 | E22: 3 | F22: 0.02
A23: =sthspwn.info!A$6 -> Y | B23: 1 | C23: 10 | D23: 0 | E23: 3.5 | F23: 0
A24: =sthspwn.info!A$6 -> Y | B24: 1
A25: =sthspwn.info!A$7 -> Y | B25: 2 | C25: Velocity | D25: TrinityU | E25: Depth | F25: TrinityU | G25: Substrate | H25: TrinityU | L25: code | M25: dominant type | N25: inches / mm
A26: =sthspwn.info!A$7 -> Y | B26: 2 | C26: 0 | D26: 0 | E26: 0 | F26: 0 | G26: 0 | H26: 0 | L26: 0 | M26: Fines | N26: <0.2 in / <4mm
A27: =sthspwn.info!A$7 -> Y | B27: 2 | C27: 0.3 | D27: 0.15 | E27: 0.3 | F27: 0.07 | G27: 1 | H27: 0.02 | L27: 1 | M27: Sml Grav | N27: 0.2-1/ 4-25
A28: =sthspwn.info!A$7 -> Y | B28: 2 | C28: 0.5 | D28: 0.39 | E28: 0.4 | F28: 0.11 | G28: 2 | H28: 0.24 | L28: 2 | M28: Med Grav | N28: 1-2 / 25-50
A29: =sthspwn.info!A$7 -> Y | B29: 2 | C29: 0.6 | D29: 0.55 | E29: 0.5 | F29: 0.19 | G29: 3 | H29: 1 | L29: 3 | M29: Lrg Grav | N29: 2-3 / 50-75
A30: =sthspwn.info!A$7 -> Y | B30: 2 | C30: 0.7 | D30: 0.72 | E30: 0.6 | F30: 0.31 | G30: 4 | H30: 0.47 | L30: 4 | M30: Sml Cob | N30: 3-6 / 75-150
A31: =sthspwn.info!A$7 -> Y | B31: 2 | C31: 0.8 | D31: 0.85 | E31: 0.7 | F31: 0.47 | G31: 5 | H31: 0 | L31: 5 | M31: Med Cob | N31: 6-9 / 150-225
A32: =sthspwn.info!A$7 -> Y | B32: 2 | C32: 0.9 | D32: 0.94 | E32: 0.8 | F32: 0.64 | G32: 6 | H32: 0 | L32: 6 | M32: Lrg Cob | N32: 9-12 / 225-300
A33: =sthspwn.info!A$7 -> Y | B33: 2 | C33: 1 | D33: 0.99 | E33: 0.9 | F33: 0.82 | G33: 7 | H33: 0 | L33: 7 | M33: Sml Bldr | N33: 12-24 / 300-600
A34: =sthspwn.info!A$7 -> Y | B34: 2 | C34: 1.1 | D34: 1 | E34: 1 | F34: 0.96 | G34: 8 | H34: 0 | L34: 8 | M34: Lrg Bldr | N34: >24 / >600
A35: =sthspwn.info!A$7 -> Y | B35: 2 | C35: 2 | D35: 0.65 | E35: 1.1 | F35: 1 | G35: 9 | H35: 0 | L35: 9 | M35: Bedrk
A36: =sthspwn.info!A$7 -> Y | B36: 2 | C36: 2.1 | D36: 0.59 | E36: 1.2 | F36: 0.9
A37: =sthspwn.info!A$7 -> Y | B37: 2 | C37: 2.2 | D37: 0.48 | E37: 1.3 | F37: 0.72
A38: =sthspwn.info!A$7 -> Y | B38: 2 | C38: 2.3 | D38: 0.37 | E38: 1.4 | F38: 0.54
A39: =sthspwn.info!A$7 -> Y | B39: 2 | C39: 2.4 | D39: 0.29 | E39: 1.5 | F39: 0.4
A40: =sthspwn.info!A$7 -> Y | B40: 2 | C40: 2.5 | D40: 0.25 | E40: 1.6 | F40: 0.31
A41: =sthspwn.info!A$7 -> Y | B41: 2 | C41: 2.6 | D41: 0.23 | E41: 1.7 | F41: 0.25
...

Sheet sthspwn.sub dat
A3: orig code | B3: dom midpt in
A4: Substrate | B4: Substrate | C4: TrinityU | G4: code | H4: dominant type | I4: inches / mm
A5: 0 | B5: 0.1 | C5: 0 | D5: 0.1 | G5: 0 | H5: Fines | I5: <0.2 in / <4mm
A6: 1 | B6: 0.6 | C6: 0.02 | D6: 0.6 | G6: 1 | H6: Sml Grav | I6: 0.2-1/ 4-25
A7: 2 | B7: 1.5 | C7: 0.24 | D7: 1.5 | G7: 2 | H7: Med Grav | I7: 1-2 / 25-50
A8: 3 | B8: 2.5 | C8: 1 | D8: 2.5 | G8: 3 | H8: Lrg Grav | I8: 2-3 / 50-75
A9: 4 | B9: 4.5 | C9: 0.47 | D9: 4.5 | G9: 4 | H9: Sml Cob | I9: 3-6 / 75-150
A10: 5 | B10: 7.5 | C10: 0 | D10: 7.5 | G10: 5 | H10: Med Cob | I10: 6-9 / 150-225
G11: 6 | H11: Lrg Cob | I11: 9-12 / 225-300
G12: 7 | H12: Sml Bldr | I12: 12-24 / 300-600
G13: 8 | H13: Lrg Bldr | I13: >24 / >600
G14: 9 | H14: Bedrk
B16: dom midpt in
A17: Substrate | B17: Substrate | C17: =sthspwn.info!$C$18 -> Yuba FWS | G17: code | H17: dominant | I17: in
A18: 0.1 | B18: 0.05 | C18: 0 | G18: 0.1 | H18: sand/silt | I18: <0.1
A19: 1 | B19: 0.5 | C19: 0.13 | G19: 1 | H19: sml grav | I19: 0.1-1
A20: 1.2 | B20: 1.5 | C20: 1 | G20: 1.2 | H20: med grav | I20: 1-2
A21: 1.3 | B21: 2 | C21: 0.85 | G21: 1.3 | H21: med/lrg grav | I21: 1-3
A22: 2.4 | B22: 3 | C22: 0.28 | G22: 2.3 | H22: lrg grav | I22: 2-3
A23: 3.5 | B23: 4 | C23: 0.16 | G23: 2.4 | H23: grav/cob | I23: 2-4
A24: 4.6 | B24: 5 | C24: 0.05 | G24: 3.4 | H24: sml cob | I24: 3-4
A25: 6.8 | B25: 7 | C25: 0 | G25: 3.5 | H25: sml cob | I25: 3-5
G26: 4.6 | H26: med cob | I26: 4-6
G27: 6.8 | H27: lrg cob | I27: 6-8
G28: 8 | H28: lrg cob | I28: 8-10
G29: 9 | H29: lrg cob | I29: 10-12
G30: 10 | H30: bould/bedrk | I30: >12
B32: dom midpt in
A33: Substrate | B33: Substrate | C33: =sthspwn.info!$C$19 -> Tuol TRTAC
A34: <1 | B34: 0.5 | C34: 0.38
A35: 1-2 | B35: 1.5 | C35: 1
A36: 2-3 | B36: 2.5 | C36: 0.85
A37: 3-4.5 | B37: 3.75 | C37: 0.28
A38: 4.5-6 | B38: 5.25 | C38: 0.05
A39: 6-9 | B39: 7.5 | C39: 0
A40: >9 | C40: 0
B42: dom midpt in | F42: 1 | G42: 2 | H42: 3 | I42: 4 | J42: 5 | K42: 6 | L42: 7 | M42: 8
A43: Substrate | B43: Substrate | C43: RMT Yuba Om n=289 | G43: <2mm | H43: 2-32 | I43: 32-90 | J43: 90-128 | K43: 128-256 | L43: >256
A44: 1 | B44: 0.01 | C44: 0 | D44: 0 | G44: 1 | H44: 17 | I44: 60 | J44: 110 | K44: 190 | L44: 256
A45: 2 | B45: 0.03937 | C45: 0 | D45: 0 | G45: 0.03937 | H45: 0.66929 | I45: 2.3622 | J45: 4.3307 | K45: 7.4803 | L45: 10.07872
...

Sheet sthfry.dat
B1: Steelhead Fry HSC
A3: * | C3: Velocity | D3: Suitability | E3: Depth | F3: Suitability | G3: Substrate | H3: Suitability | I3: Cover | J3: Suitability | L3: code | M3: sub type
A4: *
A5: =sthfry.info!A$6 -> Y | B5: =sthfry.info!B$6 -> 1 | C5: Velocity | D5: =sthfry.info!$C$6 -> Bovee | E5: Depth | F5: =sthfry.info!$C$6 -> Bovee | G5: Substrate | H5: =sthfry.info!$C$6 -> Bovee | L5: code | M5: sub type | N5: mm | O5: inches
A6: =sthfry.info!A$6 -> Y | B6: =sthfry.info!B$6 -> 1 | C6: 0 | D6: 0.05 | E6: 0 | F6: 0 | G6: 1 | H6: 0 | L6: 1 | M6: org matter
A7: =sthfry.info!A$6 -> Y | B7: =sthfry.info!B$6 -> 1 | C7: 0.1 | D7: 0.12 | E7: 0.1 | F7: 0.1 | G7: 3 | H7: 0 | L7: 2 | M7: mud,soft clay
A8: =sthfry.info!A$6 -> Y | B8: =sthfry.info!B$6 -> 1 | C8: 0.2 | D8: 0.3 | E8: 0.2 | F8: 0.8 | G8: 4 | H8: 0.03 | L8: 3 | M8: silt | N8: <0.062 | O8: <0.002
A9: =sthfry.info!A$6 -> Y | B9: =sthfry.info!B$6 -> 1 | C9: 0.3 | D9: 0.9 | E9: 0.3 | F9: 0.96 | G9: 4.5 | H9: 0.1 | L9: 4 | M9: sand | N9: 0.062-2 | O9: 0.002-0.1
A10: =sthfry.info!A$6 -> Y | B10: =sthfry.info!B$6 -> 1 | C10: 0.5 | D10: 1 | E10: 0.4 | F10: 0.98 | G10: 4.75 | H10: 0.16 | L10: 5 | M10: gravel | N10: 2-64 | O10: 0.1-2.5
A11: =sthfry.info!A$6 -> Y | B11: =sthfry.info!B$6 -> 1 | C11: 0.6 | D11: 1 | E11: 0.6 | F11: 1 | G11: 4.9 | H11: 0.24 | L11: 6 | M11: cobble / rubble | N11: 64-250 | O11: 2.5-10
A12: =sthfry.info!A$6 -> Y | B12: =sthfry.info!B$6 -> 1 | C12: 0.7 | D12: 0.96 | E12: 0.7 | F12: 1 | G12: 5 | H12: 0.3 | L12: 7 | M12: boulder | N12: >250 | O12: >10
A13: =sthfry.info!A$6 -> Y | B13: =sthfry.info!B$6 -> 1 | C13: 0.8 | D13: 0.82 | E13: 1 | F13: 0.96 | G13: 5.1 | H13: 0.38 | L13: 8 | M13: bedrock
A14: =sthfry.info!A$6 -> Y | B14: =sthfry.info!B$6 -> 1 | C14: 0.9 | D14: 0.76 | E14: 1.1 | F14: 0.8 | G14: 5.25 | H14: 0.6
A15: =sthfry.info!A$6 -> Y | B15: =sthfry.info!B$6 -> 1 | C15: 1 | D15: 0.72 | E15: 1.2 | F15: 0.64 | G15: 5.4 | H15: 0.88
A16: =sthfry.info!A$6 -> Y | B16: =sthfry.info!B$6 -> 1 | C16: 1.2 | D16: 0.64 | E16: 1.3 | F16: 0.56 | G16: 5.5 | H16: 0.97
A17: =sthfry.info!A$6 -> Y | B17: =sthfry.info!B$6 -> 1 | C17: 1.75 | D17: 0.42 | E17: 1.4 | F17: 0.46 | G17: 5.6 | H17: 1
A18: =sthfry.info!A$6 -> Y | B18: =sthfry.info!B$6 -> 1 | C18: 1.9 | D18: 0.34 | E18: 1.5 | F18: 0.42 | G18: 6.2 | H18: 1
A19: =sthfry.info!A$6 -> Y | B19: =sthfry.info!B$6 -> 1 | C19: 2.1 | D19: 0.2 | E19: 1.7 | F19: 0.3 | G19: 6.4 | H19: 0.98
A20: =sthfry.info!A$6 -> Y | B20: =sthfry.info!B$6 -> 1 | C20: 2.2 | D20: 0.14 | E20: 1.9 | F20: 0.2 | G20: 6.6 | H20: 0.82
A21: =sthfry.info!A$6 -> Y | B21: =sthfry.info!B$6 -> 1 | C21: 2.5 | D21: 0.04 | E21: 2 | F21: 0.16 | G21: 6.8 | H21: 0.46
A22: =sthfry.info!A$6 -> Y | B22: =sthfry.info!B$6 -> 1 | C22: 2.7 | D22: 0 | E22: 2.2 | F22: 0.1 | G22: 7 | H22: 0.3
A23: =sthfry.info!A$6 -> Y | B23: =sthfry.info!B$6 -> 1 | E23: 2.4 | F23: 0.06 | G23: 7.1 | H23: 0.24
A24: =sthfry.info!A$6 -> Y | B24: =sthfry.info!B$6 -> 1 | E24: 2.7 | F24: 0.02 | G24: 7.4 | H24: 0.12
A25: =sthfry.info!A$6 -> Y | B25: =sthfry.info!B$6 -> 1 | E25: 5 | F25: 0.02 | G25: 8 | H25: 0
A26: =sthfry.info!A$6 -> Y | B26: =sthfry.info!B$6 -> 1
A27: =sthfry.info!A$7 -> Y | B27: =sthfry.info!B$7 -> 2 | C27: Velocity | D27: =sthfry.info!$C$7 -> Rubin | E27: Depth | F27: =sthfry.info!$C$7 -> Rubin | G27: Substrate | H27: =sthfry.info!$C$7 -> Rubin
A28: =sthfry.info!A$7 -> Y | B28: =sthfry.info!B$7 -> 2 | C28: 0 | D28: 1 | E28: 0 | F28: 0 | G28: no relationship found
A29: =sthfry.info!A$7 -> Y | B29: =sthfry.info!B$7 -> 2 | C29: 0.2 | D29: 0.9 | E29: 0.2 | F29: 0.78
A30: =sthfry.info!A$7 -> Y | B30: =sthfry.info!B$7 -> 2 | C30: 0.4 | D30: 0.8 | E30: 0.4 | F30: 0.95
A31: =sthfry.info!A$7 -> Y | B31: =sthfry.info!B$7 -> 2 | C31: 0.6 | D31: 0.72 | E31: 0.6 | F31: 1
A32: =sthfry.info!A$7 -> Y | B32: =sthfry.info!B$7 -> 2 | C32: 0.8 | D32: 0.65 | E32: 0.8 | F32: 0.98
A33: =sthfry.info!A$7 -> Y | B33: =sthfry.info!B$7 -> 2 | C33: 1 | D33: 0.58 | E33: 1 | F33: 0.92
A34: =sthfry.info!A$7 -> Y | B34: =sthfry.info!B$7 -> 2 | C34: 1.2 | D34: 0.52 | E34: 1.2 | F34: 0.83
A35: =sthfry.info!A$7 -> Y | B35: =sthfry.info!B$7 -> 2 | C35: 1.4 | D35: 0.47 | E35: 1.4 | F35: 0.73
A36: =sthfry.info!A$7 -> Y | B36: =sthfry.info!B$7 -> 2 | C36: 1.6 | D36: 0.42 | E36: 1.6 | F36: 0.62
A37: =sthfry.info!A$7 -> Y | B37: =sthfry.info!B$7 -> 2 | C37: 1.8 | D37: 0.37 | E37: 1.8 | F37: 0.51
A38: =sthfry.info!A$7 -> Y | B38: =sthfry.info!B$7 -> 2 | C38: 2 | D38: 0.33 | E38: 2 | F38: 0.42
A39: =sthfry.info!A$7 -> Y | B39: =sthfry.info!B$7 -> 2 | C39: 2.4 | D39: 0.1 | E39: 2.4 | F39: 0.26
A40: =sthfry.info!A$7 -> Y | B40: =sthfry.info!B$7 -> 2 | C40: 2.8 | D40: 0 | E40: 2.8 | F40: 0.15
A41: =sthfry.info!A$7 -> Y | B41: =sthfry.info!B$7 -> 2 | E41: 3.2 | F41: 0.08
...

Sheet sthjuv.dat
A1: Steelhead Juvenile HSC
A3: * | C3: Velocity | D3: Suitability | E3: Depth | F3: Suitability | G3: Substrate | H3: Suitability | I3: Cover | J3: Suitability | L3: code | M3: sub type
A4: *
A5: =sthjuv.info!A$6 -> Y | B5: =sthjuv.info!B$6 -> 1 | C5: Velocity | D5: =sthjuv.info!$C$6 -> Bovee | E5: Depth | F5: =sthjuv.info!$C$6 -> Bovee | G5: Substrate | H5: =sthjuv.info!$C$6 -> Bovee | L5: code | M5: sub type | N5: mm | O5: inches
A6: =sthjuv.info!A$6 -> Y | B6: =sthjuv.info!B$6 -> 1 | C6: 0.1 | D6: 0 | E6: 0 | F6: 0 | L6: 1 | M6: org matter
A7: =sthjuv.info!A$6 -> Y | B7: =sthjuv.info!B$6 -> 1 | C7: 0.2 | D7: 0.2 | E7: 0.1 | F7: 0.06 | L7: 2 | M7: mud,soft clay
A8: =sthjuv.info!A$6 -> Y | B8: =sthjuv.info!B$6 -> 1 | C8: 0.3 | D8: 0.9 | E8: 0.3 | F8: 0.2 | L8: 3 | M8: silt | N8: <0.062 | O8: <0.002
A9: =sthjuv.info!A$6 -> Y | B9: =sthjuv.info!B$6 -> 1 | C9: 0.5 | D9: 0.98 | E9: 0.6 | F9: 0.66 | L9: 4 | M9: sand | N9: 0.062-2 | O9: 0.002-0.1
A10: =sthjuv.info!A$6 -> Y | B10: =sthjuv.info!B$6 -> 1 | C10: 0.7 | D10: 1 | E10: 1 | F10: 0.96 | L10: 5 | M10: gravel | N10: 2-64 | O10: 0.1-2.5
A11: =sthjuv.info!A$6 -> Y | B11: =sthjuv.info!B$6 -> 1 | C11: 1.1 | D11: 1 | E11: 1.25 | F11: 1 | L11: 6 | M11: cobble / rubble | N11: 64-250 | O11: 2.5-10
A12: =sthjuv.info!A$6 -> Y | B12: =sthjuv.info!B$6 -> 1 | C12: 1.4 | D12: 0.98 | E12: 1.5 | F12: 0.88 | L12: 7 | M12: boulder | N12: >250 | O12: >10
A13: =sthjuv.info!A$6 -> Y | B13: =sthjuv.info!B$6 -> 1 | C13: 1.5 | D13: 0.96 | E13: 2 | F13: 0.64 | L13: 8 | M13: bedrock
A14: =sthjuv.info!A$6 -> Y | B14: =sthjuv.info!B$6 -> 1 | C14: 1.7 | D14: 0.84 | E14: 2.2 | F14: 0.58
A15: =sthjuv.info!A$6 -> Y | B15: =sthjuv.info!B$6 -> 1 | C15: 2 | D15: 0.64 | E15: 2.5 | F15: 0.48
A16: =sthjuv.info!A$6 -> Y | B16: =sthjuv.info!B$6 -> 1 | C16: 2.3 | D16: 0.42 | E16: 3 | F16: 0.34
A17: =sthjuv.info!A$6 -> Y | B17: =sthjuv.info!B$6 -> 1 | C17: 2.5 | D17: 0.16 | E17: 3.5 | F17: 0.24
A18: =sthjuv.info!A$6 -> Y | B18: =sthjuv.info!B$6 -> 1 | C18: 3 | D18: 0.04 | E18: 4 | F18: 0.14
A19: =sthjuv.info!A$6 -> Y | B19: =sthjuv.info!B$6 -> 1 | C19: 3.5 | D19: 0.02 | E19: 4.5 | F19: 0.08
A20: =sthjuv.info!A$6 -> Y | B20: =sthjuv.info!B$6 -> 1 | C20: 4.3 | D20: 0 | E20: 5 | F20: 0
A21: =sthjuv.info!A$6 -> Y | B21: =sthjuv.info!B$6 -> 1
A22: =sthjuv.info!A$7 -> Y | B22: =sthjuv.info!B$7 -> 2 | C22: Velocity | D22: =sthjuv.info!$C$7 -> Trinity S | E22: Depth | F22: =sthjuv.info!$C$7 -> Trinity S | L22: code | M22: dominant type | N22: inches / mm | O22: code | P22: cover type
A23: =sthjuv.info!A$7 -> Y | B23: =sthjuv.info!B$7 -> 2 | C23: 0 | D23: 0.17 | E23: 0.3 | F23: 0 | L23: 0 | M23: Fines | N23: <0.2 in / <4mm | O23: 0 | P23: none
A24: =sthjuv.info!A$7 -> Y | B24: =sthjuv.info!B$7 -> 2 | C24: 0.1 | D24: 0.43 | E24: 0.4 | F24: 0.02 | L24: 1 | M24: Sml Grav | N24: 0.2-1/ 4-25 | O24: 1 | P24: unembed cobble
A25: =sthjuv.info!A$7 -> Y | B25: =sthjuv.info!B$7 -> 2 | C25: 0.2 | D25: 0.66 | E25: 0.6 | F25: 0.08 | L25: 2 | M25: Med Grav | N25: 1-2 / 25-50 | O25: 2 | P25: unembed bldrs
A26: =sthjuv.info!A$7 -> Y | B26: =sthjuv.info!B$7 -> 2 | C26: 0.3 | D26: 0.82 | E26: 0.8 | F26: 0.16 | L26: 3 | M26: Lrg Grav | N26: 2-3 / 50-75 | O26: 3 | P26: SWD <9" dia
A27: =sthjuv.info!A$7 -> Y | B27: =sthjuv.info!B$7 -> 2 | C27: 0.4 | D27: 0.91 | E27: 1 | F27: 0.26 | L27: 4 | M27: Sml Cob | N27: 3-6 / 75-150 | O27: 4 | P27: LWD
A28: =sthjuv.info!A$7 -> Y | B28: =sthjuv.info!B$7 -> 2 | C28: 0.5 | D28: 0.93 | E28: 1.1 | F28: 0.32 | L28: 5 | M28: Med Cob | N28: 6-9 / 150-225 | O28: 5 | P28: UCB
A29: =sthjuv.info!A$7 -> Y | B29: =sthjuv.info!B$7 -> 2 | C29: 0.7 | D29: 0.93 | E29: 1.3 | F29: 0.46 | L29: 6 | M29: Lrg Cob | N29: 9-12 / 225-300 | O29: 6 | P29: OVH veg w/in 18"
A30: =sthjuv.info!A$7 -> Y | B30: =sthjuv.info!B$7 -> 2 | C30: 0.8 | D30: 0.94 | E30: 1.4 | F30: 0.52 | L30: 7 | M30: Sml Bldr | N30: 12-24 / 300-600 | O30: 7 | P30: aquatic veg
A31: =sthjuv.info!A$7 -> Y | B31: =sthjuv.info!B$7 -> 2 | C31: 0.9 | D31: 0.95 | E31: 2 | F31: 0.9 | L31: 8 | M31: Lrg Bldr | N31: >24 / >600
A32: =sthjuv.info!A$7 -> Y | B32: =sthjuv.info!B$7 -> 2 | C32: 1 | D32: 0.97 | E32: 2.2 | F32: 0.99 | L32: 9 | M32: Bedrk
A33: =sthjuv.info!A$7 -> Y | B33: =sthjuv.info!B$7 -> 2 | C33: 1.3 | D33: 1 | E33: 2.3 | F33: 1
A34: =sthjuv.info!A$7 -> Y | B34: =sthjuv.info!B$7 -> 2 | C34: 1.4 | D34: 1 | E34: 2.4 | F34: 0.99
A35: =sthjuv.info!A$7 -> Y | B35: =sthjuv.info!B$7 -> 2 | C35: 1.5 | D35: 0.97 | E35: 2.6 | F35: 0.97
A36: =sthjuv.info!A$7 -> Y | B36: =sthjuv.info!B$7 -> 2 | C36: 1.6 | D36: 0.91 | E36: 2.7 | F36: 0.95
A37: =sthjuv.info!A$7 -> Y | B37: =sthjuv.info!B$7 -> 2 | C37: 1.8 | D37: 0.73 | E37: 2.9 | F37: 0.86
A38: =sthjuv.info!A$7 -> Y | B38: =sthjuv.info!B$7 -> 2 | C38: 1.9 | D38: 0.66 | E38: 3.4 | F38: 0.54
A39: =sthjuv.info!A$7 -> Y | B39: =sthjuv.info!B$7 -> 2 | C39: 2 | D39: 0.62 | E39: 3.9 | F39: 0.33
A40: =sthjuv.info!A$7 -> Y | B40: =sthjuv.info!B$7 -> 2 | C40: 2.3 | D40: 0.56 | E40: 4 | F40: 0.3
A41: =sthjuv.info!A$7 -> Y | B41: =sthjuv.info!B$7 -> 2 | C41: 2.4 | D41: 0.51 | E41: 4.2 | F41: 0.28
...
